BEGIN:VCALENDAR
VERSION:2.0
PRODID:-//Viver com Yiddish - ECPv6.15.20//NONSGML v1.0//EN
CALSCALE:GREGORIAN
METHOD:PUBLISH
X-ORIGINAL-URL:https://vivercomyiddish.com.br
X-WR-CALDESC:Eventos para Viver com Yiddish
REFRESH-INTERVAL;VALUE=DURATION:PT1H
X-Robots-Tag:noindex
X-PUBLISHED-TTL:PT1H
BEGIN:VTIMEZONE
TZID:America/Sao_Paulo
BEGIN:STANDARD
TZOFFSETFROM:-0200
TZOFFSETTO:-0300
TZNAME:-03
DTSTART:20180218T020000
END:STANDARD
BEGIN:DAYLIGHT
TZOFFSETFROM:-0300
TZOFFSETTO:-0200
TZNAME:-02
DTSTART:20181104T030000
END:DAYLIGHT
BEGIN:STANDARD
TZOFFSETFROM:-0200
TZOFFSETTO:-0300
TZNAME:-03
DTSTART:20190217T020000
END:STANDARD
END:VTIMEZONE
BEGIN:VEVENT
DTSTART;TZID=America/Sao_Paulo:20190428T180000
DTEND;TZID=America/Sao_Paulo:20190428T200000
DTSTAMP:20260420T001449
CREATED:20190409T163901Z
LAST-MODIFIED:20190409T163901Z
UID:447-1556474400-1556481600@vivercomyiddish.com.br
SUMMARY:Likhtik na CJB
DESCRIPTION:Em abril\, o Ot Azoy será na CJB (Congragação Judaica do Brasil). Vamos fazer o Show do Viver com Yiddish 28 abril\, domingo\, às 18 horas\, com lançamento do livro/CD duplo Likhtik.\nO evento é para crianças\, jovens e adultos!\n\n\n\n\nO show é gratuito e a venda dos livros/CDs duplos reverte para as oficinas de Yiddish com crianças nas escolas Liessin e Eliezer Max.
URL:https://vivercomyiddish.com.br/evento/likhtik-na-cjb/
LOCATION:Congregação Judaica do Brasil\, Rua: Prof Milward 65\, Barra\, Rio de Janeiro\, 22611-070\, Brasil
ATTACH;FMTTYPE=image/jpeg:https://vivercomyiddish.com.br/wp-content/uploads/2019/04/FL_28.04_otazoy.jpg
END:VEVENT
END:VCALENDAR