BEGIN:VCALENDAR
VERSION:2.0
PRODID:-//Viver com Yiddish - ECPv6.15.20//NONSGML v1.0//EN
CALSCALE:GREGORIAN
METHOD:PUBLISH
X-ORIGINAL-URL:https://vivercomyiddish.com.br
X-WR-CALDESC:Eventos para Viver com Yiddish
REFRESH-INTERVAL;VALUE=DURATION:PT1H
X-Robots-Tag:noindex
X-PUBLISHED-TTL:PT1H
BEGIN:VTIMEZONE
TZID:America/Sao_Paulo
BEGIN:STANDARD
TZOFFSETFROM:-0200
TZOFFSETTO:-0300
TZNAME:-03
DTSTART:20180218T020000
END:STANDARD
BEGIN:DAYLIGHT
TZOFFSETFROM:-0300
TZOFFSETTO:-0200
TZNAME:-02
DTSTART:20181104T030000
END:DAYLIGHT
BEGIN:STANDARD
TZOFFSETFROM:-0200
TZOFFSETTO:-0300
TZNAME:-03
DTSTART:20190217T020000
END:STANDARD
END:VTIMEZONE
BEGIN:VEVENT
DTSTART;TZID=America/Sao_Paulo:20191125T110000
DTEND;TZID=America/Sao_Paulo:20191126T170000
DTSTAMP:20260420T022731
CREATED:20191102T143133Z
LAST-MODIFIED:20191102T143133Z
UID:597-1574679600-1574787600@vivercomyiddish.com.br
SUMMARY:Ensinar e aprender Yiddish hoje? Música\, teatro e literatura de resistência
DESCRIPTION:Programação:  \nSegunda-Feira – 25/11/19\n13:00 às 13:30 – Abertura: Ensinar e aprender Yiddish hoje. Farvos nisht? Por que não?\nInés Kayon de Miller\, Marcia Antabi\, Sonia Kramer \n13:30 às 15:30 – Ensinar e aprender Yiddish hoje? Vi azoy? Como? \nRodas de leitura de Yiddish (Léa Tabak); Começar/voltar a estudar Yiddish (Ilana Reznik); Oficinas de Yiddish com crianças no Colégio Eliezer Max (Thelma Pollon e Marcia Stein; Aline Silveira e Tarsila Nascimento). Moderadora: Inés Kayon de Miller. \n15:30 às 16:00 – A cavale – um café \n16:00 às 17:00 horas – Escritas de mulheres na Língua Yiddish: uma seleção de histórias e poemas em Yiddish.\nPalestra Performance com Shane Baker (New Repertory Company/NY e Jewish Culture Center). Apresentação: Sonia Kramer. \nTerça-Feira – 26/11/19\n13:00 -15:00 – Ensinar e aprender Yiddish: teatro\, cinema e literatura de resistência?\nO Yiddish ressurge: enfoque cultural e político. (Israel Tabak); Cinema Yiddish (Marcia Antabi e Marccela Moreno) Mulheres escritoras (Sonia Kramer e Alice Reimann). Moderadora: Rosana Kohl Bines \n15:00 – 15:20 – Humor judaico se ensina? (Mirian Garfinkel) Apresentação: Sonia Kramer \n15:20 – 15:30 – A cavale – um café \n15:30 – 16:30 – Música Klezmer ontem e hoje\nMauro Perelmann (músico\, arranjador\, compositor e produtor musical) e Daniela Spielmann (saxofonista\, flautista\, compositora e arranjadora).  Apresentação: Marcia Antabi. \n16:30 – 17:30 – Viver com Yiddish ontem e hoje\nAline Silveira (piano\, flauta e regência)\, Bruno Rian (bandolim)\, Davi Nascimento (percussão) e Thaís Goulart (violino e voz). Apresentação: Sonia Kramer
URL:https://vivercomyiddish.com.br/evento/ensinar-e-aprender-yiddish-hoje-musica-teatro-e-literatura-de-resistencia/
LOCATION:Auditório José de Anchieta PUC-Rio\, Rua: Marquês de São Vicente\, 225\, Gávea\, Rio de Janeiro\, 22451900\, Brasil
ATTACH;FMTTYPE=image/jpeg:https://vivercomyiddish.com.br/wp-content/uploads/2019/11/viver-com-yiddish_puc2019_square.jpg
END:VEVENT
BEGIN:VEVENT
DTSTART;TZID=America/Sao_Paulo:20201018T120000
DTEND;TZID=America/Sao_Paulo:20201018T200000
DTSTAMP:20260420T022731
CREATED:20201012T045125Z
LAST-MODIFIED:20201012T045125Z
UID:669-1603022400-1603051200@vivercomyiddish.com.br
SUMMARY:Viver com Yiddish no Kleztival
DESCRIPTION:Com muita alegria convidamos a todos a assistir o Kleztival\, Festival Internacional de Música Klezmer\, que acontece na cidade de São Paulo e este ano será online\, de 17 a 25 de outubro. Gratuito.\nO Grupo Viver com Yiddish faz um show dia 18 de outubro\, DOMINGO QUE VEM\, às 12 horas\, transmitido da Hebraica de São Paulo.\nNo mesmo dia 18\, às 19h00\, serão divulgadas as finalistas do concurso Bubbe Awards\, no quesito “Melhor Canção Yiddish”\, também aberto a voto de júri popular. Vocês podem participar.\nVejam a programação e não deixem de votar!\nSegue o link:\nhttp://www.imjbrasil.com.br/kleztival/index.html \nEstamos concorrendo com a canção Benkshaft/Saudade\, letra de Sonia Kramer e melodia de Bruno Rian e Aline Silveira
URL:https://vivercomyiddish.com.br/evento/viver-com-yiddish-no-kleztival/
END:VEVENT
BEGIN:VEVENT
DTSTART;TZID=America/Sao_Paulo:20210415T183000
DTEND;TZID=America/Sao_Paulo:20210415T193000
DTSTAMP:20260420T022731
CREATED:20210413T183433Z
LAST-MODIFIED:20210413T183557Z
UID:835-1618511400-1618515000@vivercomyiddish.com.br
SUMMARY:Um tesouro para a pesquisa: Sonia Kramer entrevista Christa Whitney
DESCRIPTION:A entrevista faz parte do Seminário Internacional "Formação Humana\, Cultura e Aprendizagem"\, \nrealizado pela Pontifícia Universidade Católica do Rio de Janeiro / Brasil.\nChrista P. Whitney é a diretora do Projeto de História Oral Wexler do Yiddish Book Center\, \nque apresenta uma coleção de mais de 1.000 vídeos de entrevistas detalhadas sobre a língua e cultura yiddish\,\ncom pessoas de todas as idades e origens. Nos últimos 10 anos\, ela viajou por lugares próximos e distantes em busca de histórias relacionadas ao yiddish.\nChrista foi indicada na lista "2020 Forward 50" de "pessoas de que precisávamos em um ano que definitivamente não precisávamos".\nSonia Kramer é professora titular do Departamento de Educação da Pontifícia Universidade Católica do Rio de Janeiro / PUC-Rio\,\nonde coordena o Núcleo Viver com o iídiche: pesquisas\, cursos\, projetos culturais; o curso “Trajetórias Judaicas”\, \nrealizado em parceria com o Museu de Arte do Rio / MAR e a investigação “O ensino e a aprendizagem do iídiche como resistência e experiência identitária”.\nO evento será realizado no dia 15 de abril\, às 18h30 e estará disponível neste link: https://youtu.be/vjS7eHuW75M
URL:https://vivercomyiddish.com.br/evento/um-tesouro-para-a-pesquisa-sonia-kramer-entrevista-christa-whitney/
ATTACH;FMTTYPE=image/jpeg:https://vivercomyiddish.com.br/wp-content/uploads/2021/04/Um-tesouro-para-a-pesquisa-Sonia-Kramer-entrevista-Christa-Whitney.jpg
END:VEVENT
END:VCALENDAR