BEGIN:VCALENDAR
VERSION:2.0
PRODID:-//Viver com Yiddish - ECPv6.15.20//NONSGML v1.0//EN
CALSCALE:GREGORIAN
METHOD:PUBLISH
X-ORIGINAL-URL:https://vivercomyiddish.com.br
X-WR-CALDESC:Eventos para Viver com Yiddish
REFRESH-INTERVAL;VALUE=DURATION:PT1H
X-Robots-Tag:noindex
X-PUBLISHED-TTL:PT1H
BEGIN:VTIMEZONE
TZID:America/Sao_Paulo
BEGIN:STANDARD
TZOFFSETFROM:-0200
TZOFFSETTO:-0300
TZNAME:-03
DTSTART:20170219T020000
END:STANDARD
BEGIN:DAYLIGHT
TZOFFSETFROM:-0300
TZOFFSETTO:-0200
TZNAME:-02
DTSTART:20171015T030000
END:DAYLIGHT
BEGIN:STANDARD
TZOFFSETFROM:-0200
TZOFFSETTO:-0300
TZNAME:-03
DTSTART:20180218T020000
END:STANDARD
BEGIN:DAYLIGHT
TZOFFSETFROM:-0300
TZOFFSETTO:-0200
TZNAME:-02
DTSTART:20181104T030000
END:DAYLIGHT
BEGIN:STANDARD
TZOFFSETFROM:-0200
TZOFFSETTO:-0300
TZNAME:-03
DTSTART:20190217T020000
END:STANDARD
END:VTIMEZONE
BEGIN:VEVENT
DTSTART;TZID=America/Sao_Paulo:20181121T153000
DTEND;TZID=America/Sao_Paulo:20181121T170000
DTSTAMP:20260420T102637
CREATED:20181116T121812Z
LAST-MODIFIED:20181116T121812Z
UID:334-1542814200-1542819600@vivercomyiddish.com.br
SUMMARY:Lançamento do CD Iikhtik/Iluminado no Museu de Arte do Rio
DESCRIPTION:No dia 21 de novembro\, o grupo Viver com Yiddish fará uma apresentação no MAR\, Museu de Arte do Rio\, durante o Curso Trajetórias Judaicas. Esta apresentação faz parte de uma série de eventos de lançamento do CD duplo Iikhtik/Iluminado. \nO grupo Viver com Yiddish conta em sua formação com voz\, violino\, bandolim\, piano\, flauta\, bateria em percussão e o CD tem 16 faixas\, interpretadas em Yiddish e português\, com algumas músicas inéditas. \nO Curso Trajetórias Judaicas é uma iniciativa idealizada pelo Museu de Arte do Rio\, organizado pelo Departamento de Educação da PUC-Rio e ministrado por professores do Curso de Pós-Graduação em Estudos Judaicos. Interinstitucional e interdisciplinar\, é voltado para professores das redes pública e privad\, tem como objetivo contribuir para o conhecimento e o encontro entre culturas e religiões que marca a história do Rio. \n 
URL:https://vivercomyiddish.com.br/evento/lancamento-do-cd-iikhtik-iluminado-no-museu-de-arte-do-rio/
LOCATION:Museu de Arte do Rio\, Praça Mauá\, 5\, Rio de Janeiro\, RJ\, 20081-240\, Brasil
ATTACH;FMTTYPE=image/jpeg:https://vivercomyiddish.com.br/wp-content/uploads/2018/11/viver-com-yiddish_MAR.jpg
END:VEVENT
END:VCALENDAR