BEGIN:VCALENDAR
VERSION:2.0
PRODID:-//Viver com Yiddish - ECPv6.15.20//NONSGML v1.0//EN
CALSCALE:GREGORIAN
METHOD:PUBLISH
X-WR-CALNAME:Viver com Yiddish
X-ORIGINAL-URL:https://vivercomyiddish.com.br
X-WR-CALDESC:Eventos para Viver com Yiddish
REFRESH-INTERVAL;VALUE=DURATION:PT1H
X-Robots-Tag:noindex
X-PUBLISHED-TTL:PT1H
BEGIN:VTIMEZONE
TZID:UTC
BEGIN:STANDARD
TZOFFSETFROM:+0000
TZOFFSETTO:+0000
TZNAME:UTC
DTSTART:20170101T000000
END:STANDARD
END:VTIMEZONE
BEGIN:VEVENT
DTSTART;TZID=UTC:20181110T180000
DTEND;TZID=UTC:20181110T200000
DTSTAMP:20260420T102111
CREATED:20181101T030744Z
LAST-MODIFIED:20181101T030744Z
UID:196-1541872800-1541880000@vivercomyiddish.com.br
SUMMARY:Show do Grupo Viver com Yiddish
DESCRIPTION:Lançamento do CD duplo Iikhtik/Iluminado\, composto por 16 faixas para todas as idades. O repertório contém músicas Yiddish\, algumas inéditas\, interpretadas em Yiddish e Português\, com voz\, violino\, bandolim\, piano\, flauta \, bateria e percussão.
URL:https://vivercomyiddish.com.br/evento/show-do-grupo-viver-com-yiddish/
LOCATION:ASA – Associação Scholem Aleichem\, Rua São Clemente 155\, Rio de Janeiro\, RJ\, Brasil
ATTACH;FMTTYPE=image/jpeg:https://vivercomyiddish.com.br/wp-content/uploads/2018/11/FlyerASA.jpg
END:VEVENT
END:VCALENDAR